BEGIN:VCALENDAR
VERSION:2.0
PRODID:-//Squarespace Inc/Squarespace 6//v6//EN
BEGIN:VEVENT
UID:5ba88413e4966bf0ebf5b441@squarespace.com
DTSTAMP:20180924T064627Z
DTSTART:20190910T030000Z
DTEND:20190912T040000Z
SUMMARY:Global Equities Research Forum 2019
GEO:42.373616;-71.109734
LOCATION:Harvard University\, Cambridge\, MA\, USA
END:VEVENT
END:VCALENDAR
