BEGIN:VCALENDAR
VERSION:2.0
PRODID:-//Squarespace Inc/Squarespace 6//v6//EN
BEGIN:VEVENT
UID:5ba870140d9297701b18d786@squarespace.com
DTSTAMP:20190106T222251Z
DTSTART:20190815T013000Z
DTEND:20190816T040000Z
SUMMARY:Chairs &amp\; CEOs Symposium 2019
GEO:-33.870846;151.20733
LOCATION:Sydney\, NSW\, 2000
END:VEVENT
END:VCALENDAR
