BEGIN:VCALENDAR
VERSION:2.0
PRODID:-//Squarespace Inc/Squarespace 6//v6//EN
BEGIN:VEVENT
UID:5c05aa3c0ebbe809f36095b3@squarespace.com
DTSTAMP:20181203T222054Z
DTSTART:20190813T233000Z
DTEND:20190814T063000Z
SUMMARY:Global Alpha + Risk
GEO:-33.870846;151.20733
LOCATION:SYDNEY\, NSW\, 2000\, AUSTRALIA
END:VEVENT
END:VCALENDAR
