BEGIN:VCALENDAR
VERSION:2.0
PRODID:-//Squarespace Inc/Squarespace 6//v6//EN
BEGIN:VEVENT
UID:5ba96eb0e5e5f018ed0aea14@squarespace.com
DTSTAMP:20181204T002812Z
DTSTART:20190731T230000Z
DTEND:20190801T070000Z
SUMMARY:ESG Investing &amp\; Integration Roundtable 2019
GEO:-37.815207;144.963937
LOCATION:Grand Hyatt Melbourne\, 123 Collins St\, Melbourne\, VIC\, 3000
END:VEVENT
END:VCALENDAR
