BEGIN:VCALENDAR
VERSION:2.0
PRODID:-//Squarespace Inc/Squarespace 6//v6//EN
BEGIN:VEVENT
UID:5ba888819140b75763850465@squarespace.com
DTSTAMP:20181203T225555Z
DTSTART:20190730T230000Z
DTEND:20190731T070000Z
SUMMARY:Private Credit Roundtable 2019
GEO:-37.815207;144.963937
LOCATION:Grand Hyatt Melbourne\, 123 Collins St\, Melbourne\, VIC\, 3000
END:VEVENT
END:VCALENDAR
