BEGIN:VCALENDAR
VERSION:2.0
PRODID:-//Squarespace Inc/Squarespace 6//v6//EN
BEGIN:VEVENT
UID:5ba8827a9140b7576384e35a@squarespace.com
DTSTAMP:20180924T232336Z
DTSTART:20190529T020000Z
DTEND:20190531T040000Z
SUMMARY:Equities Forum 2019
GEO:-37.650225;145.503512
LOCATION:RACV Country Club Healesville\, 122 Healesville-Kinglake Rd\, Heal
 esville\, VIC\, 3777
END:VEVENT
END:VCALENDAR
