BEGIN:VCALENDAR
VERSION:2.0
PRODID:-//Squarespace Inc/Squarespace 6//v6//EN
BEGIN:VEVENT
UID:5ba87fc0f9619abf169024c5@squarespace.com
DTSTAMP:20180924T232349Z
DTSTART:20190515T020000Z
DTEND:20190517T030000Z
SUMMARY:Fixed Income &amp\; Credit Forum 2019
GEO:-37.656111;145.513889
LOCATION:RACV Country Club Healesville\, 122 Healesville-Kinglake Rd\, Heal
 esville\, VIC\, 3777
END:VEVENT
END:VCALENDAR
