BEGIN:VCALENDAR
VERSION:2.0
PRODID:-//Squarespace Inc/Squarespace 6//v6//EN
BEGIN:VEVENT
UID:5ba87dc2e79c705ac3a9e557@squarespace.com
DTSTAMP:20181203T225521Z
DTSTART:20190307T020000Z
DTEND:20190308T030000Z
SUMMARY:Alternatives Forum 2019
GEO:40.720756;-74.000761
LOCATION:Grand Hyatt Melbourne\, 123 Collins St\, Melbourne\, VIC\, 3000
END:VEVENT
END:VCALENDAR
