BEGIN:VCALENDAR
VERSION:2.0
PRODID:-//Squarespace Inc/Squarespace 6//v6//EN
BEGIN:VEVENT
UID:5ba87c42652deafcd6047733@squarespace.com
DTSTAMP:20181203T225457Z
DTSTART:20190305T233000Z
DTEND:20190307T020000Z
SUMMARY:Real Estate Forum 2019
GEO:-37.815207;144.963937
LOCATION:Grand Hyatt Melbourne\, 123 Collins St\, Melbourne\, VIC\, 3000
END:VEVENT
END:VCALENDAR
