BEGIN:VCALENDAR
VERSION:2.0
PRODID:-//Squarespace Inc/Squarespace 6//v6//EN
BEGIN:VEVENT
UID:5ba86bedf9619abf168f9e08@squarespace.com
DTSTAMP:20180924T232000Z
DTSTART:20190324T020000Z
DTEND:20190328T100000Z
SUMMARY:International Investing Symposium 2019
GEO:37.774929;-122.419416
LOCATION:The Fairmont San Francisco\, San Francisco\, CA\, USA
END:VEVENT
END:VCALENDAR
