BEGIN:VCALENDAR
VERSION:2.0
PRODID:-//Squarespace Inc/Squarespace 6//v6//EN
BEGIN:VEVENT
UID:5ba86595eef1a16551b70e35@squarespace.com
DTSTAMP:20180924T232242Z
DTSTART:20190213T003000Z
DTEND:20190215T030000Z
SUMMARY:Chief Investment Officers Symposium 2019
GEO:-37.812793;144.972677
LOCATION:The Sheraton Melbourne\, Melbourne\, VIC\, 3000
END:VEVENT
END:VCALENDAR
