BEGIN:VCALENDAR
VERSION:2.0
PRODID:-//Squarespace Inc/Squarespace 6//v6//EN
BEGIN:VEVENT
UID:5ba878c49140b7576384a877@squarespace.com
DTSTAMP:20181202T233645Z
DTSTART:20191016T010000Z
DTEND:20191018T003000Z
SUMMARY:MMP - Setting Strategy 2020
GEO:-26.387231;153.088511
LOCATION:Sofitel Noosa Pacific Resort
END:VEVENT
END:VCALENDAR
