BEGIN:VCALENDAR
VERSION:2.0
PRODID:-//Squarespace Inc/Squarespace 6//v6//EN
BEGIN:VEVENT
UID:5a164d6fec212d9bd37476f1@squarespace.com
DTSTAMP:20180321T013946Z
DTSTART:20180911T080000Z
DTEND:20180914T083000Z
SUMMARY:Global Equities Research Forum 2018
GEO:42.373249;-71.114179
LOCATION:Harvard University\, 20 Quincy Street\, Cambridge\, MA\, 02138\, U
 nited States
END:VEVENT
END:VCALENDAR
