BEGIN:VCALENDAR
VERSION:2.0
PRODID:-//Squarespace Inc/Squarespace 6//v6//EN
BEGIN:VEVENT
UID:5b039dc388251b9e5e6d45cb@squarespace.com
DTSTAMP:20180522T045319Z
DTSTART:20180802T000000Z
DTEND:20180802T070000Z
SUMMARY:Private Credit Roundtable
GEO:-37.8156;144.958961
LOCATION:RACV Club\, 501 Bourke Street\, Melbourne\, VIC\, 3000\, Australia
END:VEVENT
END:VCALENDAR
