BEGIN:VCALENDAR
VERSION:2.0
PRODID:-//Squarespace Inc/Squarespace 6//v6//EN
BEGIN:VEVENT
UID:5a164ada24a694106d06c9de@squarespace.com
DTSTAMP:20180717T062528Z
DTSTART:20180816T033000Z
DTEND:20180817T023000Z
SUMMARY:Chairs & Chief Executive Officers Symposium 2018
GEO:-35.280937;149.130009
LOCATION:Canberra\, ACT\, AUSTRALIA
END:VEVENT
END:VCALENDAR
