BEGIN:VCALENDAR
VERSION:2.0
PRODID:-//Squarespace Inc/Squarespace 6//v6//EN
BEGIN:VEVENT
UID:5a1648eae2c483f5ad67042f@squarespace.com
DTSTAMP:20180717T062436Z
DTSTART:20180725T020000Z
DTEND:20180726T040000Z
SUMMARY:Real Estate Forum 2018
GEO:-37.815655;144.959421
LOCATION:RACV City Club\, 501 Bourke Street\, Melbourne\, VIC\, 3000\, Aust
 ralia
END:VEVENT
END:VCALENDAR
