BEGIN:VCALENDAR
VERSION:2.0
PRODID:-//Squarespace Inc/Squarespace 6//v6//EN
BEGIN:VEVENT
UID:5a14cea4c83025aa86a332c4@squarespace.com
DTSTAMP:20171128T053646Z
DTSTART:20180718T023000Z
DTEND:20180720T033000Z
SUMMARY:Equities Forum 2018
GEO:-37.649901;145.503429
LOCATION:RACV Country Club\, 122 Healesville-Kinglake Road\, Healesville\, 
 VIC\, 3777\, Australia
END:VEVENT
END:VCALENDAR
