BEGIN:VCALENDAR
VERSION:2.0
PRODID:-//Squarespace Inc/Squarespace 6//v6//EN
BEGIN:VEVENT
UID:5a14c9a2e2c483f5ad2dd466@squarespace.com
DTSTAMP:20180514T044719Z
DTSTART:20180607T000000Z
DTEND:20180607T103000Z
SUMMARY:Alternatives Forum 2018
GEO:-37.815655;144.959421
LOCATION:RACV City Club\, 501 Bourke Street\, Melbourne\, VIC\, 3000\, Aust
 ralia
END:VEVENT
END:VCALENDAR
