BEGIN:VCALENDAR
VERSION:2.0
PRODID:-//Squarespace Inc/Squarespace 6//v6//EN
BEGIN:VEVENT
UID:5a14c4640d92971bbc2adb5e@squarespace.com
DTSTAMP:20171128T052823Z
DTSTART:20180516T023000Z
DTEND:20180518T033000Z
SUMMARY:Fixed Income & Credit Forum 2018
GEO:-37.649901;145.503429
LOCATION:RACV Country Club\, 122 Healesville-Kinglake Road\, Healesville\, 
 VIC\, 3777\, Australia
END:VEVENT
END:VCALENDAR
