BEGIN:VCALENDAR
VERSION:2.0
PRODID:-//Squarespace Inc/Squarespace 6//v6//EN
BEGIN:VEVENT
UID:5a135fb9652dea911f36e805@squarespace.com
DTSTAMP:20180227T052158Z
DTSTART:20180422T023000Z
DTEND:20180426T113000Z
SUMMARY:International Investing Symposium 2018
GEO:52.51559;13.38028
LOCATION:Hotel Adlon Kempinski\, 77 Unter den Linden\, Berlin\, Berlin\, 10
 117\, Germany
END:VEVENT
END:VCALENDAR
