BEGIN:VCALENDAR
VERSION:2.0
PRODID:-//Squarespace Inc/Squarespace 6//v6//EN
BEGIN:VEVENT
UID:5a135e84652dea911f369154@squarespace.com
DTSTAMP:20171122T004501Z
DTSTART:20180321T223000Z
DTEND:20180322T063000Z
SUMMARY:ESG Roundtable 2018
GEO:-37.815573;144.959364
LOCATION:RACV City Club\, 501 Bourke Street\, Melbourne\, VIC\, 3000\, Aust
 ralia
END:VEVENT
END:VCALENDAR
