BEGIN:VCALENDAR
VERSION:2.0
PRODID:-//Squarespace Inc/Squarespace 6//v6//EN
BEGIN:VEVENT
UID:5a94a47a9140b7b4fb5b62ab@squarespace.com
DTSTAMP:20180227T003124Z
DTSTART:20181121T220000Z
DTEND:20181122T060000Z
SUMMARY:Comprehensive Trustee Investment Training
GEO:-37.815207;144.963937
LOCATION:Melbourne\, Vic\, 3000\, Australia
END:VEVENT
END:VCALENDAR
