BEGIN:VCALENDAR
VERSION:2.0
PRODID:-//Squarespace Inc/Squarespace 6//v6//EN
BEGIN:VEVENT
UID:5a949f0c71c10b3503143409@squarespace.com
DTSTAMP:20180227T003023Z
DTSTART:20181120T220000Z
DTEND:20181121T060000Z
SUMMARY:Foundation Trustee Investment Training
GEO:-37.815207;144.963937
LOCATION:Melbourne\, VIC\, 3000\, AUSTRALIA
END:VEVENT
END:VCALENDAR
