BEGIN:VCALENDAR
VERSION:2.0
PRODID:-//Squarespace Inc/Squarespace 6//v6//EN
BEGIN:VEVENT
UID:5a1652a28165f542d61c1216@squarespace.com
DTSTAMP:20181007T223020Z
DTSTART:20181017T020000Z
DTEND:20181019T020000Z
SUMMARY:MMP - Investment Strategy Symposium 2018
GEO:-26.386802;153.088331
LOCATION:The Sofitel Noosa\, 14-16 Hastings Street\, Noosa Heads\, QLD\, 45
 67\, Australia
END:VEVENT
END:VCALENDAR
